BEGIN:VCALENDAR
VERSION:2.0
PRODID:-//eventon.com NONSGML v1.0//EN
CALSCALE:GREGORIAN
METHOD:PUBLISH
BEGIN:VEVENT
UID:69e647073b4c7
DTSTAMP:20260420T153223Z
DTSTART:20260612T110000Z
DTEND:20260614T110000Z
LOCATION:
SUMMARY:Noordwijk – Shrek de Musical door Otis
DESCRIPTION:Wat: Musicalvoorstelling voor jong en oud Waar: Theater De Muze
 \,  Noordwijk Wanneer en hoe laat: vrijdag 12\,  zaterdag 13 en zondag 14 j
 uni 2026 Kosten: kaartverkoop start begin 2026 Hieronder volgt informatie v
 an de organisator:Het Leidse musicalgezelschap Otis staat over precies een 
 jaar in Theater De Muze in Noordwijk met[..]\nhttps://www.bollenstreekomroe
 p.nl/events/noordwijk-shrek-de-musical-door-otis/
URL:https://www.bollenstreekomroep.nl/events/noordwijk-shrek-de-musical-door-otis/
END:VEVENT
END:VCALENDAR