BEGIN:VCALENDAR
VERSION:2.0
PRODID:-//eventon.com NONSGML v1.0//EN
CALSCALE:GREGORIAN
METHOD:PUBLISH
BEGIN:VEVENT
UID:69e760830f820
DTSTAMP:20260421T113323Z
DTSTART:20260610T173000Z
DTEND:20260610T173000Z
LOCATION:
SUMMARY:Noordwijk – Bijeenkomsten over levenseinde en uitvaart
DESCRIPTION:Wat: Informatiebijeenkomsten over laatste levensfase Waar: De V
 inkenhof\,  Noordwijk Wanneer en hoe laat: woensdag 11 maart om 19.30 uur e
 n woensdag 10 juni om 19.30 uur Kosten: Gratis Hieronder volgt informatie v
 an de organisator: In maart en in juni organiseert de Protestantse Wijkgeme
 ente Noordwijk twee bijeenkomsten rondom het levenseinde en[..]\nhttps://ww
 w.bollenstreekomroep.nl/events/noordwijk-bijeenkomsten-over-levenseinde-en-
 uitvaart-2/
URL:https://www.bollenstreekomroep.nl/events/noordwijk-bijeenkomsten-over-levenseinde-en-uitvaart-2/
END:VEVENT
END:VCALENDAR