BEGIN:VCALENDAR
VERSION:2.0
PRODID:-//eventon.com NONSGML v1.0//EN
CALSCALE:GREGORIAN
METHOD:PUBLISH
BEGIN:VEVENT
UID:69e4ec0aa9ff7
DTSTAMP:20260419T145154Z
DTSTART:20260523T083000Z
DTEND:20260525T143000Z
LOCATION:
SUMMARY:Noordwijk – Schilderijen expositie Meesterlijk Realisme II
DESCRIPTION:Wat: Tentoonstelling van hedendaagse realistische schilderkunst
  Waar: Koetshuis van Landgoed Calorama\,  Gooweg 33\,  2201 AX NoordwijkWan
 neer en hoe laat: zaterdag 23 mei 2026 tot en met maandag 25 mei 2026 van 1
 0:30 tot 16:30 uurKosten: Gratis Op 23\,  24 en 25 mei 2026 presenteert gal
 erie ArtBoutique de tentoonstelling Meesterlijk Realisme[..]\nhttps://www.b
 ollenstreekomroep.nl/events/noordwijk-schilderijen-expositie-meesterlijk-re
 alisme-ii/
URL:https://www.bollenstreekomroep.nl/events/noordwijk-schilderijen-expositie-meesterlijk-realisme-ii/
END:VEVENT
END:VCALENDAR