BEGIN:VCALENDAR
VERSION:2.0
PRODID:-//eventon.com NONSGML v1.0//EN
CALSCALE:GREGORIAN
METHOD:PUBLISH
BEGIN:VEVENT
UID:69e6471da655a
DTSTAMP:20260420T153245Z
DTSTART:20260628T150000Z
DTEND:20260628T210000Z
LOCATION:
SUMMARY:Noordwijk – Scratch Rainbowpop zangdag
DESCRIPTION:Wat: Zangdag met repetities en optreden Waar: Theater De Muze\,
   Noordwijk Wanneer en hoe laat: zondag 28 juni 2026 om 17:00 Kosten: 45\, 
 00 (of 60\, 00)\,  aanmelden via www.duneandforest.nl Hieronder volgt infor
 matie van de organisator:INSCHRIJVING SCRATCH RAINBOWPOP GEOPEND Close Harm
 ony Zanggroep Dune &amp; Forest organiseert voor de vijfde keer een scratch
 .[..]\nhttps://www.bollenstreekomroep.nl/events/noordwijk-scratch-rainbowpo
 p-zangdag/
URL:https://www.bollenstreekomroep.nl/events/noordwijk-scratch-rainbowpop-zangdag/
END:VEVENT
END:VCALENDAR