BEGIN:VCALENDAR
VERSION:2.0
PRODID:-//eventon.com NONSGML v1.0//EN
CALSCALE:GREGORIAN
METHOD:PUBLISH
BEGIN:VEVENT
UID:69e9fe92aa9f5
DTSTAMP:20260423T111218Z
DTSTART:20260322T093000Z
DTEND:20270117T160000Z
LOCATION:
SUMMARY:Lisse – Tentoonstelling Prenten & Gedichten
DESCRIPTION:Wat: Tentoonstelling met gedichten en prenten Waar: Nationaal M
 useum de Zwarte Tulp\,  Lisse Wanneer en hoe laat: zondag 22 maart 2026 tot
  en met zondag 17 januari 2027 Kosten: 10\, 00 voor volwassenen\,  5\, 00 v
 oor jeugd en studenten\,  gratis t/m 14 jaar\,  aanmelden niet nodig Hieron
 der volgt informatie van de organisator:Nieuwe[..]\nhttps://www.bollenstree
 komroep.nl/events/lisse-tentoonstelling-prenten-gedichten/
URL:https://www.bollenstreekomroep.nl/events/lisse-tentoonstelling-prenten-gedichten/
END:VEVENT
END:VCALENDAR