BEGIN:VCALENDAR
VERSION:2.0
PRODID:-//eventon.com NONSGML v1.0//EN
CALSCALE:GREGORIAN
METHOD:PUBLISH
BEGIN:VEVENT
UID:69e9d870d232b
DTSTAMP:20260423T082936Z
DTSTART:20260306T123000Z
DTEND:20260518T153000Z
LOCATION:
SUMMARY:Hillegom – Expositie bloembollenvelden van Wim Granneman
DESCRIPTION:Wat: Expositie van schilderijen van bloembollenvelden Waar: Bib
 liotheek Hillegom\,  Sportlaan 1\,  Hillegom Wanneer en hoe laat: vrijdag 6
  maart 2026 tot en met maandag 18 mei 2026 Kosten: Gratis\,  aanmelden niet
  nodig Hieronder volgt informatie van de organisator:&#8220;Bollenvelden ge
 schilderd door Wim Granneman&#8221; De kleurrijke bloembollenvelden van de 
 Bollenstreek vormen al[..]\nhttps://www.bollenstreekomroep.nl/events/hilleg
 om-expositie-bloembollenvelden-van-wim-granneman/
URL:https://www.bollenstreekomroep.nl/events/hillegom-expositie-bloembollenvelden-van-wim-granneman/
END:VEVENT
END:VCALENDAR