BEGIN:VCALENDAR
VERSION:2.0
PRODID:-//eventon.com NONSGML v1.0//EN
CALSCALE:GREGORIAN
METHOD:PUBLISH
BEGIN:VEVENT
UID:69e6489b7e5cc
DTSTAMP:20260420T153907Z
DTSTART:20260618T160000Z
DTEND:20260628T214500Z
LOCATION:
SUMMARY:Noordwijk – Zomerlicht Festival 2026
DESCRIPTION:Wat: Cultureel festival met muziek\,  theater en kunst Waar: La
 ndgoed Calorama\,  Gooweg 33\,  Noordwijk Wanneer en hoe laat: donderdag 18
  juni 2026 om 18:00 Kosten: 35\,  jongeren 25\,  aanmelden verplicht Hieron
 der volgt informatie van de organisator:Persbericht Cultureel zonnebaden op
  landgoed Calorama Van 18 tot en met 28 juni 2026 presenteert[..]\nhttps://
 www.bollenstreekomroep.nl/events/noordwijk-zomerlicht-festival-2026/
URL:https://www.bollenstreekomroep.nl/events/noordwijk-zomerlicht-festival-2026/
END:VEVENT
END:VCALENDAR