BEGIN:VCALENDAR
VERSION:2.0
PRODID:-//eventon.com NONSGML v1.0//EN
CALSCALE:GREGORIAN
METHOD:PUBLISH
BEGIN:VEVENT
UID:69e9fe92a9fec
DTSTAMP:20260423T111218Z
DTSTART:20260319
DTEND:20260320
LOCATION:
SUMMARY:Bollenstreek – Bloembollenroute voor minder mobiele inwoners
DESCRIPTION:Wat: Autorit langs bloembollen voor minder mobiele inwoners Waa
 r: de bloembollenroute van de Duin- en Bollenstreek Wanneer en hoe laat: do
 nderdag 19 maart tot en met zondag 10 mei Kosten: €15 per rit\,  aanmelde
 n verplicht Hieronder volgt informatie van de organisator:Bloembollenroute 
 maakt voorjaar bereikbaar voor minder mobiele inwoners Van donderdag[..]\nh
 ttps://www.bollenstreekomroep.nl/events/bollenstreek-bloembollenroute-voor-
 minder-mobiele-inwoners/
URL:https://www.bollenstreekomroep.nl/events/bollenstreek-bloembollenroute-voor-minder-mobiele-inwoners/
END:VEVENT
END:VCALENDAR