BEGIN:VCALENDAR
VERSION:2.0
PRODID:-//eventon.com NONSGML v1.0//EN
CALSCALE:GREGORIAN
METHOD:PUBLISH
BEGIN:VEVENT
UID:69e9d889786dd
DTSTAMP:20260423T083001Z
DTSTART:20260205T090000Z
DTEND:20260531T150000Z
LOCATION:
SUMMARY:Noordwijk – Tentoonstelling Artemis II bij Space Expo
DESCRIPTION:Wat: Tentoonstelling over Artemis-maanmissies Waar: Space Expo\
 ,  Noordwijk Wanneer en hoe laat: Dagelijks t/m 31 mei 2026\,  10.00 &#8211
 ; 17.00 uur Kosten: 18\, 50 Hieronder volgt informatie van de organisator:V
 oor de eerste keer in meer dan vijftig jaar reizen astronauten naar de maan
 . Dat gebeurt in het voorjaar van 2026 in[..]\nhttps://www.bollenstreekomro
 ep.nl/events/noordwijk-tentoonstelling-artemis-ii-bij-space-expo/
URL:https://www.bollenstreekomroep.nl/events/noordwijk-tentoonstelling-artemis-ii-bij-space-expo/
END:VEVENT
END:VCALENDAR