BEGIN:VCALENDAR
VERSION:2.0
PRODID:-//eventon.com NONSGML v1.0//EN
CALSCALE:GREGORIAN
METHOD:PUBLISH
BEGIN:VEVENT
UID:69e9eb2501f88
DTSTAMP:20260423T094925Z
DTSTART:20260323T083000Z
DTEND:20260501T153000Z
LOCATION:
SUMMARY:Noordwijkerhout – E-step tour / E-fatbike tour
DESCRIPTION:Wat: Elektrische step- en fatbiketour door regio Waar: We Love 
 Wheels &#8211; Dorpsstraat 37\,  2211GA Noordwijkerhout Wanneer en hoe laat
 : Dagelijks t/m 1 mei 2026\,  09.30 &#8211; 17.30 uur Kosten: van 17\, 50 t
 ot 39\, 50\,  aanmelden verplicht Hieronder volgt informatie van de organis
 ator:E-Step Tour / E-Fatbike Tourt/m 31 maartAdres: We Love[..]\nhttps://ww
 w.bollenstreekomroep.nl/events/noordwijkerhout-e-step-tour-e-fatbike-tour/
URL:https://www.bollenstreekomroep.nl/events/noordwijkerhout-e-step-tour-e-fatbike-tour/
END:VEVENT
END:VCALENDAR