BEGIN:VCALENDAR
VERSION:2.0
PRODID:-//eventon.com NONSGML v1.0//EN
CALSCALE:GREGORIAN
METHOD:PUBLISH
BEGIN:VEVENT
UID:69e9da0063c1b
DTSTAMP:20260423T083616Z
DTSTART:20251101T090000Z
DTEND:20261231T160000Z
LOCATION:
SUMMARY:Noordwijk – Expositie Wubbo Ockels: Astronaut of Spaceship Earth
DESCRIPTION:Wat: Tentoonstelling over Wubbo Ockels en ruimtevaart Waar: Spa
 ce Expo Wanneer en hoe laat: Dagelijks t/m 31 december 2026\,  10.00 &#8211
 ; 17.00 uur Kosten: 17\, 00 Hieronder volgt informatie van de organisator:E
 xpositie Wubbo Ockels bij Space Expo Astronaut of Spaceship Earth Op 30 okt
 ober 1985 was Wubbo Ockels (1946 – 2014)[..]\nhttps://www.bollenstreekomr
 oep.nl/events/noordwijk-expositie-wubbo-ockels-astronaut-of-spaceship-earth
 /
URL:https://www.bollenstreekomroep.nl/events/noordwijk-expositie-wubbo-ockels-astronaut-of-spaceship-earth/
END:VEVENT
END:VCALENDAR