BEGIN:VCALENDAR
VERSION:2.0
PRODID:-//eventon.com NONSGML v1.0//EN
CALSCALE:GREGORIAN
METHOD:PUBLISH
BEGIN:VEVENT
UID:69e9ead490238
DTSTAMP:20260423T094804Z
DTSTART:20260323T090000Z
DTEND:20260430T150000Z
LOCATION:
SUMMARY:Noordwijk – Expositie ‘Nederland gezien door satellieten’
DESCRIPTION:Wat: Interactieve tentoonstelling over satellietdata Nederland 
 Waar: Space Expo Wanneer en hoe laat: Dagelijks t/m 30 april 2026\,  10.00 
 &#8211; 17.00 uur Kosten: 18\, 50 Hieronder volgt informatie van de organis
 ator:Expositie &#8216;Nederland gezien door satelieten&#8217; Space Expo on
 tdek hoe satellietdata ons land veiliger\,  duurzamer en slimmer maken. Sat
 ellieten maken Nederland elke[..]\nhttps://www.bollenstreekomroep.nl/events
 /noordwijk-expositie-nederland-gezien-door-satellieten/
URL:https://www.bollenstreekomroep.nl/events/noordwijk-expositie-nederland-gezien-door-satellieten/
END:VEVENT
END:VCALENDAR