BEGIN:VCALENDAR
VERSION:2.0
PRODID:-//eventon.com NONSGML v1.0//EN
CALSCALE:GREGORIAN
METHOD:PUBLISH
BEGIN:VEVENT
UID:69e770625f545
DTSTAMP:20260421T124106Z
DTSTART:20260323T090000Z
DTEND:20270205T160000Z
LOCATION:
SUMMARY:Noordwijk – Expeditie Space Expo
DESCRIPTION:Wat: Interactieve ruimtemissie voor kinderen Waar: Space Expo W
 anneer en hoe laat: Dagelijks\,  10.00 &#8211; 17.00 uur Kosten: van 15\, 0
 0 tot 17\, 00\,  aanmelden niet verplicht Hieronder volgt informatie van de
  organisator:Expeditie Space Expo Noordwijk Een interactieve missie voor ki
 nderen van 5 t/m 12 jaar. Heb jij zin in een spannende[..]\nhttps://www.bol
 lenstreekomroep.nl/events/noordwijk-expeditie-space-expo/
URL:https://www.bollenstreekomroep.nl/events/noordwijk-expeditie-space-expo/
END:VEVENT
END:VCALENDAR