BEGIN:VCALENDAR
VERSION:2.0
PRODID:-//eventon.com NONSGML v1.0//EN
CALSCALE:GREGORIAN
METHOD:PUBLISH
BEGIN:VEVENT
UID:69e9ed50d5340
DTSTAMP:20260423T095840Z
DTSTART:20260323T090000Z
DTEND:20270131T160000Z
LOCATION:
SUMMARY:Noordwijk – Ontdek de ERA-Arm bij Space Expo
DESCRIPTION:Wat: Tentoonstelling over Nederlandse robotarm ERA Waar: Space 
 Expo Wanneer en hoe laat: Dagelijks\,  10.00 &#8211; 17.00 uur Kosten: van 
 15\, 00 tot 17\, 00 Hieronder volgt informatie van de organisator:Ontdek de
  ERA-Arm bij Space Expo &#8211; tentoonstelling over het grootste Nederland
 se ruimteproject ooit! Wat is de ERA-Arm?Astronauten besteden zo’n 30% va
 n[..]\nhttps://www.bollenstreekomroep.nl/events/noordwijk-ontdek-de-era-arm
 -bij-space-expo/
URL:https://www.bollenstreekomroep.nl/events/noordwijk-ontdek-de-era-arm-bij-space-expo/
END:VEVENT
END:VCALENDAR