BEGIN:VCALENDAR
VERSION:2.0
PRODID:-//eventon.com NONSGML v1.0//EN
CALSCALE:GREGORIAN
METHOD:PUBLISH
BEGIN:VEVENT
UID:69e9ec6406610
DTSTAMP:20260423T095444Z
DTSTART:20260323T083000Z
DTEND:20260501T153000Z
LOCATION:
SUMMARY:Noordwijk/Noordwijkerhout – Mountainbike / MTB Trail Noordwijk
DESCRIPTION:Wat: Mountainbiken door duin- en bosgebied Waar: MTB parcours N
 oordwijk(erhout) Wanneer en hoe laat: Dagelijks t/m 1 mei 2026\,  09.30 &#8
 211; 17.30 uur Kosten: van 18\, 00 tot 27\, 50 Hieronder volgt informatie v
 an de organisator:Mountainbike / MTB TRAIL Noordwijk Een mooi en uitdagend 
 MTB parcours in het duin en bosgebied van[..]\nhttps://www.bollenstreekomro
 ep.nl/events/noordwijk-noordwijkerhout-mountainbike-mtb-trail-noordwijk/
URL:https://www.bollenstreekomroep.nl/events/noordwijk-noordwijkerhout-mountainbike-mtb-trail-noordwijk/
END:VEVENT
END:VCALENDAR