BEGIN:VCALENDAR
VERSION:2.0
PRODID:-//eventon.com NONSGML v1.0//EN
CALSCALE:GREGORIAN
METHOD:PUBLISH
BEGIN:VEVENT
UID:69e9fe92a9f98
DTSTAMP:20260423T111218Z
DTSTART:20260319T070000Z
DTEND:20260510T170000Z
LOCATION:
SUMMARY:Lisse – Keukenhof
DESCRIPTION:Wat: Bloemenpark met shows en evenementen Waar: Keukenhof Wanne
 er en hoe laat: Dagelijks t/m 10 mei 2026 Kosten: 21\, 00 Hieronder volgt i
 nformatie van de organisator:Welkom bij het mooiste lentepark ter wereld! N
 aast de ruim 32 hectare aan bloemen kunt u genieten van spectaculaire (indo
 or) bloemenshows\,  verrassende inspiratietuinen\,  unieke kunstwerken en[.
 .]\nhttps://www.bollenstreekomroep.nl/events/lisse-keukenhof/
URL:https://www.bollenstreekomroep.nl/events/lisse-keukenhof/
END:VEVENT
END:VCALENDAR