BEGIN:VCALENDAR
VERSION:2.0
PRODID:-//eventon.com NONSGML v1.0//EN
CALSCALE:GREGORIAN
METHOD:PUBLISH
BEGIN:VEVENT
UID:69e9ead4eef0f
DTSTAMP:20260423T094804Z
DTSTART:20260325T150000Z
DTEND:20260509T140000Z
LOCATION:
SUMMARY:Hillegom – Openstelling Maartenskerk tijdens Keukenhofperiode
DESCRIPTION:Wat: Openstelling kerk met exposities en activiteiten Waar: Maa
 rtenskerk\,  Kerkplein Wanneer en hoe laat: woensdag 25 maart 2026 t/m zate
 rdag 9 mei 2026\,  10.00 &#8211; 16.00 uur Kosten: Gratis Hieronder volgt i
 nformatie van de organisator:Maartenskerk weer open tijdens Keukenhofperiod
 e De Maartenskerk aan het Kerkplein in Hillegom zet deze lente weer[..]\nht
 tps://www.bollenstreekomroep.nl/events/hillegom-openstelling-maartenskerk-t
 ijdens-keukenhofperiode/
URL:https://www.bollenstreekomroep.nl/events/hillegom-openstelling-maartenskerk-tijdens-keukenhofperiode/
END:VEVENT
END:VCALENDAR