BEGIN:VCALENDAR
VERSION:2.0
PRODID:-//eventon.com NONSGML v1.0//EN
CALSCALE:GREGORIAN
METHOD:PUBLISH
BEGIN:VEVENT
UID:69e65d87c0ad4
DTSTAMP:20260420T170823Z
DTSTART:20260416T170000Z
DTEND:20260416T181100Z
LOCATION:
SUMMARY:Noordwijk – Stinzenwandeling Landgoed Calorama
DESCRIPTION:Wat: Rondwandeling langs stinzen en historie Waar: Gooweg 33\, 
  Noordwijk Wanneer en hoe laat: woensdag 8\,  15\,  22 en 29 april 2025 en 
 donderdag 9\,  16\,  23 en 30 april 2025 om 19:00 uur Kosten: 7\, 50\,  aan
 melden verplicht Hieronder volgt informatie van de organisator:STINZENWANDE
 LING LANDGOED CALORAMAOp woensdag- en donderdagavonden in[..]\nhttps://www.
 bollenstreekomroep.nl/events/noordwijk-stinzenwandeling-landgoed-calorama-2
 /var/ri-1.l-L1
URL:https://www.bollenstreekomroep.nl/events/noordwijk-stinzenwandeling-landgoed-calorama-2/var/ri-1.l-L1
END:VEVENT
END:VCALENDAR