BEGIN:VCALENDAR
VERSION:2.0
PRODID:-//eventon.com NONSGML v1.0//EN
CALSCALE:GREGORIAN
METHOD:PUBLISH
BEGIN:VEVENT
UID:69e6471ed3e46
DTSTAMP:20260420T153246Z
DTSTART:20260411T090000Z
DTEND:20260913T140000Z
LOCATION:
SUMMARY:Noordwijk – Expositie “HURRAY!” Hans Berkhout
DESCRIPTION:Wat: Overzichtsexpositie van kunstenaar Hans Berkhout Waar: Mus
 eum Noordwijk Wanneer en hoe laat: vanaf zaterdag 11 april 2026 om museumop
 eningstijden Kosten: 6\, 00 Hieronder volgt informatie van de organisator:H
 ans Berkhout“HURRAY!” In Museum Noordwijk is vanaf 11 april een exposit
 ie te bewonderen van Hans Berkhout en tevens de nieuwe tentoonstelling &#82
 20;Doopjurken door[..]\nhttps://www.bollenstreekomroep.nl/events/noordwijk-
 expositie-hurray-hans-berkhout/
URL:https://www.bollenstreekomroep.nl/events/noordwijk-expositie-hurray-hans-berkhout/
END:VEVENT
END:VCALENDAR