BEGIN:VCALENDAR
VERSION:2.0
PRODID:-//eventon.com NONSGML v1.0//EN
CALSCALE:GREGORIAN
METHOD:PUBLISH
BEGIN:VEVENT
UID:69e9d8a65953f
DTSTAMP:20260423T083030Z
DTSTART:20260319T080000Z
DTEND:20260510T153000Z
LOCATION:
SUMMARY:Voorhout – Groepsexcursie over de tulpen
DESCRIPTION:Wat: Rondleiding over het bollenteeltproces Waar: De Tulperij\,
   Oude Herenweg 16 B\,  Voorhout Wanneer en hoe laat: van 19 maart tot en m
 et 10 mei 2026 om 09:00 uur Kosten: 9\, 95; aanmelden verplicht Hieronder v
 olgt informatie van de organisator:19 maart t/m 10 mei 2026Alle dagen open 
 van 9.00-17.30 uur Groepsexcursie[..]\nhttps://www.bollenstreekomroep.nl/ev
 ents/voorhout-groepsexcursie-over-de-tulpen/
URL:https://www.bollenstreekomroep.nl/events/voorhout-groepsexcursie-over-de-tulpen/
END:VEVENT
END:VCALENDAR