BEGIN:VCALENDAR
VERSION:2.0
PRODID:-//eventon.com NONSGML v1.0//EN
CALSCALE:GREGORIAN
METHOD:PUBLISH
BEGIN:VEVENT
UID:69e9f12b36826
DTSTAMP:20260423T101507Z
DTSTART:20260331T060000Z
DTEND:20260510T160000Z
LOCATION:
SUMMARY:Noordwijkerhout – Op ontdekkingstocht bij Tulip Experience Amsterdam
DESCRIPTION:Wat: Ontdek de tulp en haar geschiedenis Waar: Delfweg 37\,  22
 11 VK Noordwijkerhout Wanneer en hoe laat: t/m 10 mei 2026\,  dagelijks van
  08:00 tot 18:00 uur Kosten: Volwassenen 12\, 50; kinderen 6\, 50 (3 t/m 11
  jaar)\,  t/m 2 jaar gratis; audiotour 15\, 00; aanmelden niet vermeld Tuli
 p Experience Amsterdam is een[..]\nhttps://www.bollenstreekomroep.nl/events
 /noordwijkerhout-op-ontdekkingstocht-bij-tulip-experience-amsterdam/
URL:https://www.bollenstreekomroep.nl/events/noordwijkerhout-op-ontdekkingstocht-bij-tulip-experience-amsterdam/
END:VEVENT
END:VCALENDAR