BEGIN:VCALENDAR
VERSION:2.0
PRODID:-//eventon.com NONSGML v1.0//EN
CALSCALE:GREGORIAN
METHOD:PUBLISH
BEGIN:VEVENT
UID:69e646c51cc72
DTSTAMP:20260420T153117Z
DTSTART:20260404T110000Z
DTEND:20260926T133000Z
LOCATION:
SUMMARY:Noordwijk – Torenklimmen Oude Jeroenskerk
DESCRIPTION:Wat: Beklim de toren met gids Waar: Oude Jeroenskerk\,  Voorstr
 aat 44\,  2201 HW Noordwijk Binnen Wanneer en hoe laat: elke zaterdag van 4
  april t/m 26 september 2026 Kosten: Volwassenen 5\, 00; kinderen 2\, 50; a
 anmelden niet vermeld Hieronder volgt informatie van de organisator:Torenkl
 immen Oude JeroenskerkOude JeroenskerkVoorstraat 44 Volwassenen€ 5\, 00Ki
 nderen€ 2\, 50 Elke[..]\nhttps://www.bollenstreekomroep.nl/events/noordwi
 jk-torenklimmen-oude-jeroenskerk/
URL:https://www.bollenstreekomroep.nl/events/noordwijk-torenklimmen-oude-jeroenskerk/
END:VEVENT
END:VCALENDAR