BEGIN:VCALENDAR
VERSION:2.0
PRODID:-//eventon.com NONSGML v1.0//EN
CALSCALE:GREGORIAN
METHOD:PUBLISH
BEGIN:VEVENT
UID:69e646d387033
DTSTAMP:20260420T153131Z
DTSTART:20260405T090000Z
DTEND:20261025T150000Z
LOCATION:
SUMMARY:Noordwijk – Welkom in De Vuurtoren - open voor bezoek
DESCRIPTION:Wat: Beklim de vuurtoren en bezoek expositie Waar: Vuurtoren No
 ordwijk\,  Koningin Wilhelmina Boulevard 34\,  2202 GV Noordwijk Wanneer en
  hoe laat: elke zondag van 5 april t/m 25 oktober 2026 van 11:00 tot 16:00 
 uur Kosten: 4\, 00; reserveren niet nodig (wel mogelijk) Hieronder volgt in
 formatie van de organisator:Welkom in De[..]\nhttps://www.bollenstreekomroe
 p.nl/events/noordwijk-welkom-in-de-vuurtoren-open-voor-bezoek/
URL:https://www.bollenstreekomroep.nl/events/noordwijk-welkom-in-de-vuurtoren-open-voor-bezoek/
END:VEVENT
END:VCALENDAR