BEGIN:VCALENDAR
VERSION:2.0
PRODID:-//eventon.com NONSGML v1.0//EN
CALSCALE:GREGORIAN
METHOD:PUBLISH
BEGIN:VEVENT
UID:69e9ee32d37f1
DTSTAMP:20260423T100226Z
DTSTART:20260331T083000Z
DTEND:20261231T153000Z
LOCATION:
SUMMARY:Noordwijk – Engelandvaarders - Escape game
DESCRIPTION:Wat: Escape game over Engelandvaarders Waar: Museum Engelandvaa
 rders\,  Bosweg 15\,  2202 NX Noordwijk Wanneer en hoe laat: elke dinsdag t
 /m zondag t/m 31 december 2026 van 10:30 tot 16:30 uur Kosten: Volwassenen 
 10\, 00; kinderen 5\, 50 (7 t/m 12 jaar); t/m 6 jaar gratis; MJK en veteran
 en gratis; reserveren alleen nodig[..]\nhttps://www.bollenstreekomroep.nl/e
 vents/noordwijk-engelandvaarders-escape-game/
URL:https://www.bollenstreekomroep.nl/events/noordwijk-engelandvaarders-escape-game/
END:VEVENT
END:VCALENDAR