BEGIN:VCALENDAR
VERSION:2.0
PRODID:-//eventon.com NONSGML v1.0//EN
CALSCALE:GREGORIAN
METHOD:PUBLISH
BEGIN:VEVENT
UID:69e64bab46986
DTSTAMP:20260420T155211Z
DTSTART:20260411T090000Z
DTEND:20261231T160000Z
LOCATION:
SUMMARY:Noordwijk – Expositie Doopjurken door de tijd - Museum Noordwijk
DESCRIPTION:Wat: Expositie over historische doopjurken Waar: Museum Noordwi
 jk\,  Jan Kroonsplein 4\,  2202 JC Noordwijk Wanneer en hoe laat: dinsdag t
 /m zaterdag van 11 april t/m 31 december 2026 van 11:00 tot 17:00 uur; zond
 ag van 11 april t/m 31 december 2026 van 12:00 tot 16:00 uur Kosten: Volwas
 senen 6\, 00; kinderen[..]\nhttps://www.bollenstreekomroep.nl/events/noordw
 ijk-expositie-doopjurken-door-de-tijd-museum-noordwijk/
URL:https://www.bollenstreekomroep.nl/events/noordwijk-expositie-doopjurken-door-de-tijd-museum-noordwijk/
END:VEVENT
END:VCALENDAR