BEGIN:VCALENDAR
VERSION:2.0
PRODID:-//eventon.com NONSGML v1.0//EN
CALSCALE:GREGORIAN
METHOD:PUBLISH
BEGIN:VEVENT
UID:69e6470709b21
DTSTAMP:20260420T153223Z
DTSTART:20260530T181500Z
DTEND:20260530T203000Z
LOCATION:
SUMMARY:Noordwijk – Concert Requiem Mozart
DESCRIPTION:Wat: Uitvoering van Mozarts Requiem Waar: Oude Jeroenskerk\,  V
 oorstraat 44\,  Noordwijk Wanneer en hoe laat: zaterdag 30 mei 2026 om 20:1
 5 uur Kosten: 25; kaarten aan de zaal of via troubadoursecretaris@gmail.com
  Hieronder volgt informatie van de organisator:Beschrijving REQUIEM VAN MOZ
 ART DOOR KLASSIEK KOOR DE TROUBADOURSDe muzikale leiding van het concert[..
 ]\nhttps://www.bollenstreekomroep.nl/events/noordwijk-concert-requiem-mozar
 t/
URL:https://www.bollenstreekomroep.nl/events/noordwijk-concert-requiem-mozart/
END:VEVENT
END:VCALENDAR