BEGIN:VCALENDAR
VERSION:2.0
PRODID:-//eventon.com NONSGML v1.0//EN
CALSCALE:GREGORIAN
METHOD:PUBLISH
BEGIN:VEVENT
UID:69e89ecac5097
DTSTAMP:20260422T101122Z
DTSTART:20260515T160000Z
DTEND:20260517T160000Z
LOCATION:
SUMMARY:Noordwijk – Noordwijk Kamermuziekfestival
DESCRIPTION:Wat: Vierdaags kamermuziekfestival met concerten en cursus Waar
 : diverse locaties in Noordwijk Wanneer en hoe laat: donderdag 14 mei 2026 
 t/m zondag 17 mei 2026 Kosten: aanmelden en kaartverkoop via website Hieron
 der volgt informatie van de organisator:Vijfde editie Noordwijk Kamermuziek
 festival: kamermuziek in Noordwijk aan zeeVan 14 tot en met 17[..]\nhttps:/
 /www.bollenstreekomroep.nl/events/noordwijk-noordwijk-kamermuziekfestival/
URL:https://www.bollenstreekomroep.nl/events/noordwijk-noordwijk-kamermuziekfestival/
END:VEVENT
END:VCALENDAR