BEGIN:VCALENDAR
VERSION:2.0
PRODID:-//eventon.com NONSGML v1.0//EN
CALSCALE:GREGORIAN
METHOD:PUBLISH
BEGIN:VEVENT
UID:69e9ec6406f6b
DTSTAMP:20260423T095444Z
DTSTART:20260401T093800Z
DTEND:20260430T215900Z
LOCATION:
SUMMARY:Bollenstreek – Taalhuismaand bij de Bibliotheek Bollenstreek
DESCRIPTION:Wat: Activiteiten en ondersteuning voor taalontwikkeling Waar: 
 Bibliotheek Bollenstreek (diverse locaties) Wanneer en hoe laat: april 2026
  Kosten: 10\, 00 / 12\, 50 voor lezing; overige activiteiten gratis; aanmel
 den via website Hieronder volgt informatie van de organisator:April is Taal
 huismaand bij de Bibliotheek Bollenstreek April staat bij de Bibliotheek Bo
 llenstreek in het teken[..]\nhttps://www.bollenstreekomroep.nl/events/bolle
 nstreek-taalhuismaand-bij-de-bibliotheek-bollenstreek/
URL:https://www.bollenstreekomroep.nl/events/bollenstreek-taalhuismaand-bij-de-bibliotheek-bollenstreek/
END:VEVENT
END:VCALENDAR