BEGIN:VCALENDAR
VERSION:2.0
PRODID:-//eventon.com NONSGML v1.0//EN
CALSCALE:GREGORIAN
METHOD:PUBLISH
BEGIN:VEVENT
UID:69e646aae7231
DTSTAMP:20260420T153050Z
DTSTART:20260424T080000Z
DTEND:20260425T080000Z
LOCATION:
SUMMARY:Noordwijk – Kledingcafé
DESCRIPTION:Wat: Kledingruil en verkoop voor goed doel Waar: Buurtkerk\,  N
 oordwijk Wanneer en hoe laat: vrijdag 24 april 2026 en zaterdag 25 april 20
 26 om 10.00 uur Kosten: Gratis; aanmelden niet nodig Hieronder volgt inform
 atie van de organisator:Kledingcafé 24 en 25 april 2026 Vanwege groot succ
 es wordt er ook dit jaar[..]\nhttps://www.bollenstreekomroep.nl/events/noor
 dwijk-kledingcafe/
URL:https://www.bollenstreekomroep.nl/events/noordwijk-kledingcafe/
END:VEVENT
END:VCALENDAR