BEGIN:VCALENDAR
VERSION:2.0
PRODID:-//eventon.com NONSGML v1.0//EN
CALSCALE:GREGORIAN
METHOD:PUBLISH
BEGIN:VEVENT
UID:69eb36bc51d31
DTSTAMP:20260424T092412Z
DTSTART:20260708T080000Z
DTEND:20260708T113000Z
LOCATION:
SUMMARY:Noordwijk – Sportdag Friends United
DESCRIPTION:Wat: Sportdag voor groepen en teams Waar: Sportpark Duinweterin
 g 105\,  Noordwijk Wanneer en hoe laat: woensdag 8 juli om 10:00 &#8211; 13
 :30 uur Kosten: Gratis\,  aanmelden verplicht (vol = vol) Hieronder volgt i
 nformatie van de organisator:sportdag friends united 8 juli 10:00 &#8211; 1
 3:30 locatie: sportpark Duinwetering 105. wil jij (gratis)[..]\nhttps://www
 .bollenstreekomroep.nl/events/noordwijk-sportdag-friends-united/
URL:https://www.bollenstreekomroep.nl/events/noordwijk-sportdag-friends-united/
END:VEVENT
END:VCALENDAR