BEGIN:VCALENDAR
VERSION:2.0
PRODID:-//eventon.com NONSGML v1.0//EN
CALSCALE:GREGORIAN
METHOD:PUBLISH
BEGIN:VEVENT
UID:69e646c5a44d3
DTSTAMP:20260420T153117Z
DTSTART:20260427T080000Z
DTEND:20260427T160000Z
LOCATION:
SUMMARY:Noordwijk - Programma Keuningsdag
DESCRIPTION:Wat: Keuningsdag NoordwijkWanneer: Maandag 27 April Het progamm
 a: Locatie De Grent10.00 uurAubade\,  viering met muzikale ondersteuning va
 n &#8217;t is Keunin aanwezigheid van de burgemeester\,  gedecoreerden en o
 ud-gedecoreerden 10.30 uurStart kinderactiviteiten &#8211; KindervrijmarktK
 indervrijmarkt op de Grent 10.45 uurPrijsuitreiking kleurwedstrijdWin kaart
 jes voor KidsZoo en Jumpin&#8217; NoordwijkOptredens en de Kidz DJ Discosho
 w met[..]\nhttps://www.bollenstreekomroep.nl/events/keuningsdag-noordwijk/
URL:https://www.bollenstreekomroep.nl/events/keuningsdag-noordwijk/
END:VEVENT
END:VCALENDAR