BEGIN:VCALENDAR
VERSION:2.0
PRODID:-//eventon.com NONSGML v1.0//EN
CALSCALE:GREGORIAN
METHOD:PUBLISH
BEGIN:VEVENT
UID:69ecb254e837c
DTSTAMP:20260425T122348Z
DTSTART:20260822T073000Z
DTEND:20260822T083000Z
LOCATION:
SUMMARY:Noordwijk – Voorleesochtend bij Het Cultuurcafé
DESCRIPTION:Wat: Voorlezen met croissantje voor jong en oud Waar: Boekhande
 l van der MEER / Het Cultuurcafé\,  De Keuvel 1\,  2201 MB Noordwijk Wanne
 er en hoe laat: elke zaterdag t/m 26 september 2026 van 09:30 tot 10:30 uur
  Kosten: Gratis (reserveren gewenst) Hieronder volgt informatie van de orga
 nisator:Kom je ook luisteren?[..]\nhttps://www.bollenstreekomroep.nl/events
 /noordwijk-voorleesochtend-bij-het-cultuurcafe/var/ri-19.l-L1
URL:https://www.bollenstreekomroep.nl/events/noordwijk-voorleesochtend-bij-het-cultuurcafe/var/ri-19.l-L1
END:VEVENT
END:VCALENDAR