BEGIN:VCALENDAR
VERSION:2.0
PRODID:-//eventon.com NONSGML v1.0//EN
CALSCALE:GREGORIAN
METHOD:PUBLISH
BEGIN:VEVENT
UID:69e4d10d4facf
DTSTAMP:20260419T125645Z
DTSTART:20260423T170000Z
DTEND:20260423T193000Z
LOCATION:
SUMMARY:Sassenheim – Kledingruil in bieb Sassenheim
DESCRIPTION:Wat: Kledingruil en presentatie over kleur Waar: Bibliotheek Sa
 ssenheim\,  Kerklaan 42 Wanneer en hoe laat: donderdag 23 april om 19:00 to
 t 21:30 uur Kosten: Gratis\,  aanmelden gewenst via www.bibliotheekbollenst
 reek.nl Hieronder volgt informatie van de organisator:Kledingruil in bieb S
 assenheim De bibliotheek van Sassenheim staat op 23 april in het teken van[
 ..]\nhttps://www.bollenstreekomroep.nl/events/sassenheim-kledingruil-in-bie
 b-sassenheim/
URL:https://www.bollenstreekomroep.nl/events/sassenheim-kledingruil-in-bieb-sassenheim/
END:VEVENT
END:VCALENDAR