BEGIN:VCALENDAR
VERSION:2.0
PRODID:-//eventon.com NONSGML v1.0//EN
CALSCALE:GREGORIAN
METHOD:PUBLISH
BEGIN:VEVENT
UID:69e646d45b9c2
DTSTAMP:20260420T153132Z
DTSTART:20260422T181500Z
DTEND:20260422T203000Z
LOCATION:
SUMMARY:Noordwijk – FEMI bij BreekdeWeek
DESCRIPTION:Wat: Alternatieve folkconcert met singer-songwriter FEMI Waar: 
 Oude Jeroenskerk\,  Voorstraat 44\,  Noordwijk Binnen Wanneer en hoe laat: 
 woensdag 22 april 2026 om 20:15 uur Kosten: 22\, 50 (inclusief drankje\,  k
 aartverkoop online en aan de zaal) Hieronder volgt informatie van de organi
 sator:FEMI: alternatieve folk bij BreekdeWeek Muziek\,  anders dan anders\,
   dat is[..]\nhttps://www.bollenstreekomroep.nl/events/noordwijk-femi-bij-b
 reekdeweek/
URL:https://www.bollenstreekomroep.nl/events/noordwijk-femi-bij-breekdeweek/
END:VEVENT
END:VCALENDAR