BEGIN:VCALENDAR
VERSION:2.0
PRODID:-//eventon.com NONSGML v1.0//EN
CALSCALE:GREGORIAN
METHOD:PUBLISH
BEGIN:VEVENT
UID:69e64c6e838c8
DTSTAMP:20260420T155526Z
DTSTART:20260514T090000Z
DTEND:20260516T160000Z
LOCATION:
SUMMARY:Noordwijk – Ibiza Festival Noordwijk
DESCRIPTION:Wat: Ibiza-markt met mode en lifestyle Waar: Koningin Wilhelmin
 a Boulevard\,  Noordwijk Wanneer en hoe laat: donderdag 14 mei 2026 om 11:0
 0 uur\,  zaterdag 20 juni om 11:00\,  zaterdag 25 juli om 11:00 Kosten: Gra
 tis Hieronder volgt informatie van de organisator:Ibiza Festival NoordwijkK
 on. Wilhelmina Boulevard2202 GV Noordwijk gezellige markt met mode\, [..]\n
 https://www.bollenstreekomroep.nl/events/noordwijk-ibiza-festival-noordwijk
 /
URL:https://www.bollenstreekomroep.nl/events/noordwijk-ibiza-festival-noordwijk/
END:VEVENT
END:VCALENDAR