BEGIN:VCALENDAR
VERSION:2.0
PRODID:-//eventon.com NONSGML v1.0//EN
CALSCALE:GREGORIAN
METHOD:PUBLISH
BEGIN:VEVENT
UID:69e649becf85c
DTSTAMP:20260420T154358Z
DTSTART:20260627T090000Z
DTEND:20260627T233000Z
LOCATION:
SUMMARY:Noordwijk – Roze Zaterdag Noordwijk 2026
DESCRIPTION:Wat: Pride-evenement met activiteiten en optredens Waar: Koning
 in Wilhelmina Boulevard (“Oranje Promenade”) e.o. Wanneer en hoe laat: 
 zaterdag 27 juni 2026 Kosten: Gratis (deels betaald\,  zie programma) Hiero
 nder volgt informatie van de organisator:Roze Zaterdag Noordwijk 2026Op zat
 erdag 27 juni 2026 is Noordwijk gaststad van Roze Zaterdag: de dag waarop w
 e[..]\nhttps://www.bollenstreekomroep.nl/events/noordwijk-roze-zaterdag-noo
 rdwijk-2026/
URL:https://www.bollenstreekomroep.nl/events/noordwijk-roze-zaterdag-noordwijk-2026/
END:VEVENT
END:VCALENDAR