BEGIN:VCALENDAR
VERSION:2.0
PRODID:-//eventon.com NONSGML v1.0//EN
CALSCALE:GREGORIAN
METHOD:PUBLISH
BEGIN:VEVENT
UID:69e65d7d363aa
DTSTAMP:20260420T170813Z
DTSTART:20260802T110000Z
DTEND:20260802T150000Z
LOCATION:
SUMMARY:Noordwijk – Levende Beelden 2026
DESCRIPTION:Wat: Straatfestival met levende standbeelden Waar: Koningin Wil
 helmina Boulevard en Hoofdstraat\,  Noordwijk Wanneer en hoe laat: zondag 1
 2 juli 2026 om 13:00 uur Kosten: Gratis Hieronder volgt informatie van de o
 rganisator:LEVENDE BEELDEN 2026 zondag 12 juli 2026 &amp; zondag 2 augustus
  2026 Noordwijk aan Zee staat zondag 12 juli en[..]\nhttps://www.bollenstre
 ekomroep.nl/events/noordwijk-levende-beelden-2026/var/ri-1.l-L1
URL:https://www.bollenstreekomroep.nl/events/noordwijk-levende-beelden-2026/var/ri-1.l-L1
END:VEVENT
END:VCALENDAR