BEGIN:VCALENDAR
VERSION:2.0
PRODID:-//eventon.com NONSGML v1.0//EN
CALSCALE:GREGORIAN
METHOD:PUBLISH
BEGIN:VEVENT
UID:69e65d925e745
DTSTAMP:20260420T170834Z
DTSTART:20260815T160000Z
DTEND:20260815T210000Z
LOCATION:
SUMMARY:Noordwijk – Cirque des Dunes 2026
DESCRIPTION:Wat: Straattheater met spectaculaire acts Waar: Koningin Wilhel
 mina Boulevard\,  Noordwijk Wanneer en hoe laat: zaterdag 18 juli 2026 om 1
 8:00 uur Kosten: Gratis Hieronder volgt informatie van de organisator:CIRQU
 E DES DUNES 2026 zaterdag 18 juli 2026 &amp; zaterdag 15 augustus 2026 Ca.1
 2 spectaculaire acts zullen zaterdagavond 18 juli en 15[..]\nhttps://www.bo
 llenstreekomroep.nl/events/noordwijk-cirque-des-dunes-2026/var/ri-1.l-L1
URL:https://www.bollenstreekomroep.nl/events/noordwijk-cirque-des-dunes-2026/var/ri-1.l-L1
END:VEVENT
END:VCALENDAR