BEGIN:VCALENDAR
VERSION:2.0
PRODID:-//eventon.com NONSGML v1.0//EN
CALSCALE:GREGORIAN
METHOD:PUBLISH
BEGIN:VEVENT
UID:69e653f64076d
DTSTAMP:20260420T162734Z
DTSTART:20260807T140000Z
DTEND:20260809T163000Z
LOCATION:
SUMMARY:Noordwijk– Zomers Bloemencorso Rijnsburg 2026
DESCRIPTION:Wat: Bloemencorso met praalwagens en muziek Waar: Rijnsburg\,  
 Katwijk en Noordwijk Wanneer en hoe laat: vrijdag 7 augustus 2026 om 16:00 
 uur Kosten: Gratis Hieronder volgt informatie van de organisator:Zomers Blo
 emencorso Rijnsburg in Katwijk &amp; Noordwijk 20267 augustus – 16:00 –
  9 augustus – 17:00Flower Parade RijnsburgElke tweede zaterdag in[..]\nht
 tps://www.bollenstreekomroep.nl/events/noordwijk-zomers-bloemencorso-rijnsb
 urg-2026/
URL:https://www.bollenstreekomroep.nl/events/noordwijk-zomers-bloemencorso-rijnsburg-2026/
END:VEVENT
END:VCALENDAR