BEGIN:VCALENDAR
VERSION:2.0
PRODID:-//eventon.com NONSGML v1.0//EN
CALSCALE:GREGORIAN
METHOD:PUBLISH
BEGIN:VEVENT
UID:69e646c4ab630
DTSTAMP:20260420T153116Z
DTSTART:20260420T180000Z
DTEND:20260420T193000Z
LOCATION:
SUMMARY:Noordwijk – Gioia mia
DESCRIPTION:Wat: Film over familie en verbondenheid Waar: De Muze\,  Wantve
 ld 2\,  Noordwijk Wanneer en hoe laat: maandag 20 en 30 april om 20:00 &#82
 11; 21:30 uur Kosten: 12\, 50 Hieronder volgt informatie van de organisator
 :Nico moet de zomer doorbrengen op Sicilië bij een oude tante. Daar woont 
 zij in een groot[..]\nhttps://www.bollenstreekomroep.nl/events/noordwijk-gi
 oia-mia/
URL:https://www.bollenstreekomroep.nl/events/noordwijk-gioia-mia/
END:VEVENT
END:VCALENDAR