BEGIN:VCALENDAR
VERSION:2.0
PRODID:-//eventon.com NONSGML v1.0//EN
CALSCALE:GREGORIAN
METHOD:PUBLISH
BEGIN:VEVENT
UID:69e64707c048e
DTSTAMP:20260420T153223Z
DTSTART:20260421T170000Z
DTEND:20260421T203000Z
LOCATION:
SUMMARY:Noordwijk – RBO 25/26: Giselle
DESCRIPTION:Wat: Balletvoorstelling over liefde en verraad Waar: De Muze\, 
  Wantveld 2\,  Noordwijk Wanneer en hoe laat: dinsdag 21 april om 19:00 &#8
 211; 22:30 uur Kosten: 17\, 50 Hieronder volgt informatie van de organisato
 r:RBO 25/26: Giselle dinsdag 21 aprilDe MuzeAdres: Wantveld 2\,  2202 NS No
 ordwijk 19:00 &#8211; 22:30€17\, 50 Het boerenmeisje Giselle is[..]\nhttp
 s://www.bollenstreekomroep.nl/events/noordwijk-rbo-25-26-giselle/
URL:https://www.bollenstreekomroep.nl/events/noordwijk-rbo-25-26-giselle/
END:VEVENT
END:VCALENDAR