BEGIN:VCALENDAR
VERSION:2.0
PRODID:-//eventon.com NONSGML v1.0//EN
CALSCALE:GREGORIAN
METHOD:PUBLISH
BEGIN:VEVENT
UID:69e646c4ab613
DTSTAMP:20260420T153116Z
DTSTART:20260422T181500Z
DTEND:20260422T200000Z
LOCATION:
SUMMARY:Noordwijk – Silvester's Comedy Club (4)
DESCRIPTION:Wat: Stand-up comedyavond in clubsetting Waar: De Muze\,  Wantv
 eld 2\,  Noordwijk Wanneer en hoe laat: woensdag 22 april om 20:15 uur Kost
 en: Vanaf 17\, 50 Hieronder volgt informatie van de organisator:Silvester&#
 8217;s Comedy Club (4)woensdag 22 aprilDe MuzeAdres: Wantveld 2\,  2202 NS 
 NoordwijkContact: demuze.nl | 071 364 62 26 | kassa@demuze.nlPrijs: Vanaf[.
 .]\nhttps://www.bollenstreekomroep.nl/events/noordwijk-silvesters-comedy-cl
 ub-4/
URL:https://www.bollenstreekomroep.nl/events/noordwijk-silvesters-comedy-club-4/
END:VEVENT
END:VCALENDAR