BEGIN:VCALENDAR
VERSION:2.0
PRODID:-//eventon.com NONSGML v1.0//EN
CALSCALE:GREGORIAN
METHOD:PUBLISH
BEGIN:VEVENT
UID:69e646d4d292c
DTSTAMP:20260420T153132Z
DTSTART:20260423T181500Z
DTEND:20260423T200000Z
LOCATION:
SUMMARY:Noordwijk – Peter van Rooijen – Try out
DESCRIPTION:Wat: Muzikale cabaretvoorstelling met nieuwe nummers Waar: De M
 uze\,  Wantveld 2\,  Noordwijk Wanneer en hoe laat: donderdag 23 april om 2
 0:15 uur Kosten: Vanaf 19\, 50 Hieronder volgt informatie van de organisato
 r:Peter van Rooijen &#8211; Try outdonderdag 23 aprilDe MuzeAdres: Wantveld
  2\,  2202 NS NoordwijkContact: demuze.nl | 071 364 62 26[..]\nhttps://www.
 bollenstreekomroep.nl/events/noordwijk-peter-van-rooijen-try-out/
URL:https://www.bollenstreekomroep.nl/events/noordwijk-peter-van-rooijen-try-out/
END:VEVENT
END:VCALENDAR