BEGIN:VCALENDAR
VERSION:2.0
PRODID:-//eventon.com NONSGML v1.0//EN
CALSCALE:GREGORIAN
METHOD:PUBLISH
BEGIN:VEVENT
UID:69e65d7d3622f
DTSTAMP:20260420T170813Z
DTSTART:20260429T173000Z
DTEND:20260429T193700Z
LOCATION:
SUMMARY:Noordwijk – Michael
DESCRIPTION:Wat: Biografische film over Michael Jackson Waar: De Muze\,  Wa
 ntveld 2\,  Noordwijk Wanneer en hoe laat: zaterdag 25 april 2026 om 19:30 
 &#8211; 21:37 uur Kosten: Vanaf 12\, 50 Hieronder volgt informatie van de o
 rganisator:Michael25 april\,  29 aprilDe MuzeAdres: Wantveld 2\,  2202 NS N
 oordwijkContact: demuze.nl | 071 364 62 26 |[..]\nhttps://www.bollenstreeko
 mroep.nl/events/noordwijk-michael/var/ri-1.l-L1
URL:https://www.bollenstreekomroep.nl/events/noordwijk-michael/var/ri-1.l-L1
END:VEVENT
END:VCALENDAR