BEGIN:VCALENDAR
VERSION:2.0
PRODID:-//eventon.com NONSGML v1.0//EN
CALSCALE:GREGORIAN
METHOD:PUBLISH
BEGIN:VEVENT
UID:69e646d386c97
DTSTAMP:20260420T153131Z
DTSTART:20260428T173000Z
DTEND:20260428T193000Z
LOCATION:
SUMMARY:Noordwijk – I Swear
DESCRIPTION:Wat: Film over Tourette en doorzettingsvermogen Waar: De Muze\,
   Wantveld 2\,  Noordwijk Wanneer en hoe laat: dinsdag 28 april om 19:30 &#
 8211; 21:30 uur Kosten: Vanaf 12\, 50 Hieronder volgt informatie van de org
 anisator:I Sweardinsdag 28 aprilDe MuzeAdres: Wantveld 2\,  2202 NS Noordwi
 jkContact: demuze.nl | 071 364 62 26 | kassa@demuze.nlPrijs:[..]\nhttps://w
 ww.bollenstreekomroep.nl/events/noordwijk-i-swear/
URL:https://www.bollenstreekomroep.nl/events/noordwijk-i-swear/
END:VEVENT
END:VCALENDAR