BEGIN:VCALENDAR
VERSION:2.0
PRODID:-//eventon.com NONSGML v1.0//EN
CALSCALE:GREGORIAN
METHOD:PUBLISH
BEGIN:VEVENT
UID:69e64c6e839fe
DTSTAMP:20260420T155526Z
DTSTART:20260421T173000Z
DTEND:20260421T210000Z
LOCATION:
SUMMARY:Noordwijk – Filmhuis “Zin in Film” presenteert: The Story Of The Weeping Camel
DESCRIPTION:Wat: Filmvertoning over Mongoolse nomadencultuur Waar: De Vinke
 nhof\,  Achterzeeweg 1 Noordwijk Wanneer en hoe laat: dinsdag 21 april 2026
  om 20:00 uur Kosten: onbekend\,  aanmelden verplicht Hieronder volgt infor
 matie van de organisator:Dinsdag 21 april vanaf 19.30 uur in de Vinkenhof: 
 Filmhuis “Zin in Film” presenteert: The Story Of The Weeping[..]\nhttps
 ://www.bollenstreekomroep.nl/events/noordwijk-filmhuis-zin-in-film-presente
 ert-the-story-of-the-weeping-camel/
URL:https://www.bollenstreekomroep.nl/events/noordwijk-filmhuis-zin-in-film-presenteert-the-story-of-the-weeping-camel/
END:VEVENT
END:VCALENDAR