BEGIN:VCALENDAR
VERSION:2.0
PRODID:-//eventon.com NONSGML v1.0//EN
CALSCALE:GREGORIAN
METHOD:PUBLISH
BEGIN:VEVENT
UID:69e6472648a37
DTSTAMP:20260420T153254Z
DTSTART:20260605T120000Z
DTEND:20260830T160000Z
LOCATION:
SUMMARY:Noordwijk – Opera aan Zee 2026
DESCRIPTION:Wat: Operavoorstellingen op diverse locaties Waar: diverse loca
 ties in Noordwijk Wanneer en hoe laat: vrijdag 5 juni 2026 tot en met zonda
 g 30 augustus 2026\,  tijden wisselend Kosten: 15 euro\,  kinderen gratis; 
 operadiner 80 euro\,  reserveren noodzakelijk Hieronder volgt informatie va
 n de organisator:Opera aan Zee 2026. 30e editie Eerste weekend[..]\nhttps:/
 /www.bollenstreekomroep.nl/events/noordwijk-opera-aan-zee-2026/
URL:https://www.bollenstreekomroep.nl/events/noordwijk-opera-aan-zee-2026/
END:VEVENT
END:VCALENDAR