BEGIN:VCALENDAR
VERSION:2.0
PRODID:-//eventon.com NONSGML v1.0//EN
CALSCALE:GREGORIAN
METHOD:PUBLISH
BEGIN:VEVENT
UID:69e8fb9db4dd3
DTSTAMP:20260422T164725Z
DTSTART:20260427T053000Z
DTEND:20260427T140000Z
LOCATION:
SUMMARY:Hillegom – Koningsdag Hillegom
DESCRIPTION:Wat: Feestprogramma met activiteiten en optredens Waar: Diverse
  locaties in Hillegom Wanneer en hoe laat: maandag 27 april 2026 om 07:30 u
 ur Hieronder volgt informatie van de organisator:MA 27 APRILstart tussen07.
 30 &#8211; 08.00 uur Hof tot Hof-loop 10 km (wandeltocht) Hoftuinstart tuss
 en08.00 &#8211; 08.30 uur Hof tot Hof-loop 5 km[..]\nhttps://www.bollenstre
 ekomroep.nl/events/hillegom-koningsdag-hillegom/
URL:https://www.bollenstreekomroep.nl/events/hillegom-koningsdag-hillegom/
END:VEVENT
END:VCALENDAR