BEGIN:VCALENDAR
VERSION:2.0
PRODID:-//eventon.com NONSGML v1.0//EN
CALSCALE:GREGORIAN
METHOD:PUBLISH
BEGIN:VEVENT
UID:69ecedd51044c
DTSTAMP:20260425T163741Z
DTSTART:20260501T080000Z
DTEND:20260501T120000Z
LOCATION:
SUMMARY:Noordwijk – Zomermarkt en kofferbakverkoop bij Willem van den Bergh
DESCRIPTION:Wat: Maandelijkse zomermarkt met kofferbakverkoop Waar: Woonzor
 gpark Willem van den Bergh\,  gebouw Plein 6\,  Wintertuinlaan\,  Noordwijk
  Wanneer en hoe laat: vrijdag 1 mei\,  5 juni\,  3 juli\,  7 augustus en 4 
 september om 10:00-14:00 uur Kosten: Gratis\,  aanmelden niet nodig Hierond
 er volgt informatie van de organisator:Zomermarkt en kofferbakverkoop bij W
 illem[..]\nhttps://www.bollenstreekomroep.nl/events/noordwijk-zomermarkt-en
 -kofferbakverkoop-bij-willem-van-den-bergh/
URL:https://www.bollenstreekomroep.nl/events/noordwijk-zomermarkt-en-kofferbakverkoop-bij-willem-van-den-bergh/
END:VEVENT
END:VCALENDAR