BEGIN:VCALENDAR
VERSION:2.0
PRODID:-//eventon.com NONSGML v1.0//EN
CALSCALE:GREGORIAN
METHOD:PUBLISH
BEGIN:VEVENT
UID:69eceb784e553
DTSTAMP:20260425T162736Z
DTSTART:20260509T181500Z
DTEND:20260509T200000Z
LOCATION:
SUMMARY:Lisse – Orgelconcert in de St. Agathakerk
DESCRIPTION:Wat: Orgelconcert in de St. Agathakerk Waar: St. Agathakerk\,  
 Lisse Wanneer en hoe laat: zaterdag 9 mei om 20.15 uur Kosten: Gratis\,  co
 llecte na afloop Hieronder volgt informatie van de organisator:De Stichting
  Vrienden van het Adema-orgel in Lisse organiseert op zaterdag 9 mei weer e
 en orgelconcert in de St. Agathakerk[..]\nhttps://www.bollenstreekomroep.nl
 /events/lisse-orgelconcert-in-de-st-agathakerk/
URL:https://www.bollenstreekomroep.nl/events/lisse-orgelconcert-in-de-st-agathakerk/
END:VEVENT
END:VCALENDAR